Package: TEKRABber Version: 1.10.0 Command: /home/biocbuild/R/R/bin/R CMD INSTALL TEKRABber StartedAt: 2025-02-03 20:49:56 -0000 (Mon, 03 Feb 2025) EndedAt: 2025-02-03 20:50:47 -0000 (Mon, 03 Feb 2025) EllapsedTime: 51.1 seconds RetCode: 0 Status: OK