Package: TENxIO Version: 1.8.2 Command: /Library/Frameworks/R.framework/Resources/bin/R CMD build --keep-empty-dirs --no-resave-data TENxIO StartedAt: 2025-01-31 09:24:10 -0500 (Fri, 31 Jan 2025) EndedAt: 2025-01-31 09:24:58 -0500 (Fri, 31 Jan 2025) EllapsedTime: 48.0 seconds RetCode: 1 Status: ERROR PackageFile: None PackageFileSize: NA