Package: TENxIO Version: 1.8.2 Command: /Library/Frameworks/R.framework/Resources/bin/R CMD INSTALL TENxIO StartedAt: 2025-01-30 15:27:58 -0500 (Thu, 30 Jan 2025) EndedAt: 2025-01-30 15:28:29 -0500 (Thu, 30 Jan 2025) EllapsedTime: 30.2 seconds RetCode: 0 Status: OK