Package: TENxIO Version: 1.8.2 Command: /Library/Frameworks/R.framework/Resources/bin/R CMD build --keep-empty-dirs --no-resave-data TENxIO StartedAt: 2025-01-30 23:23:41 -0500 (Thu, 30 Jan 2025) EndedAt: 2025-01-30 23:25:11 -0500 (Thu, 30 Jan 2025) EllapsedTime: 90.6 seconds RetCode: 1 Status: ERROR PackageFile: None PackageFileSize: NA