Package: TENxIO Version: 1.8.2 Command: /home/biocbuild/bbs-3.20-bioc/R/bin/R CMD INSTALL TENxIO StartedAt: 2025-01-30 15:13:54 -0500 (Thu, 30 Jan 2025) EndedAt: 2025-01-30 15:14:17 -0500 (Thu, 30 Jan 2025) EllapsedTime: 22.8 seconds RetCode: 0 Status: OK