Package: TENxIO Version: 1.8.2 Command: rm -rf TENxIO.buildbin-libdir && mkdir TENxIO.buildbin-libdir && F:\biocbuild\bbs-3.20-bioc\R\bin\R.exe CMD INSTALL --build --library=TENxIO.buildbin-libdir TENxIO_1.8.2.tar.gz StartedAt: 2025-01-31 09:46:11 -0500 (Fri, 31 Jan 2025) EndedAt: 2025-01-31 09:46:48 -0500 (Fri, 31 Jan 2025) EllapsedTime: 36.6 seconds RetCode: 0 Status: OK PackageFile: TENxIO_1.8.2.zip PackageFileSize: 548.6 KiB