Package: TENxIO Version: 1.8.2 Command: F:\biocbuild\bbs-3.20-bioc\R\bin\R.exe CMD check --no-multiarch --install=check:TENxIO.install-out.txt --library=F:\biocbuild\bbs-3.20-bioc\R\library --no-vignettes --timings TENxIO_1.8.2.tar.gz StartedAt: 2025-01-31 07:10:04 -0500 (Fri, 31 Jan 2025) EndedAt: 2025-01-31 07:13:42 -0500 (Fri, 31 Jan 2025) EllapsedTime: 217.6 seconds RetCode: 0 Status: OK CheckDir: TENxIO.Rcheck Warnings: 0