Package: TENxIO Version: 1.8.2 Command: F:\biocbuild\bbs-3.20-bioc\R\bin\R.exe CMD INSTALL TENxIO StartedAt: 2025-01-30 16:06:48 -0500 (Thu, 30 Jan 2025) EndedAt: 2025-01-30 16:07:31 -0500 (Thu, 30 Jan 2025) EllapsedTime: 43.6 seconds RetCode: 0 Status: OK