Package: TENxIO Version: 1.8.2 Command: /home/biocbuild/R/R/bin/R CMD build --keep-empty-dirs --no-resave-data TENxIO StartedAt: 2025-01-31 03:08:45 -0000 (Fri, 31 Jan 2025) EndedAt: 2025-01-31 03:09:40 -0000 (Fri, 31 Jan 2025) EllapsedTime: 55.0 seconds RetCode: 0 Status: OK PackageFile: TENxIO_1.8.2.tar.gz PackageFileSize: 282.6 KiB