Package: TENxIO Version: 1.8.2 Command: /home/biocbuild/R/R/bin/R CMD check --install=check:TENxIO.install-out.txt --library=/home/biocbuild/R/R/site-library --no-vignettes --timings TENxIO_1.8.2.tar.gz StartedAt: 2025-01-31 10:59:27 -0000 (Fri, 31 Jan 2025) EndedAt: 2025-01-31 11:02:58 -0000 (Fri, 31 Jan 2025) EllapsedTime: 211.3 seconds RetCode: 0 Status: OK CheckDir: TENxIO.Rcheck Warnings: 0