Package: TENxIO Version: 1.8.2 Command: /home/biocbuild/R/R/bin/R CMD INSTALL TENxIO StartedAt: 2025-01-30 20:17:49 -0000 (Thu, 30 Jan 2025) EndedAt: 2025-01-30 20:18:19 -0000 (Thu, 30 Jan 2025) EllapsedTime: 30.7 seconds RetCode: 0 Status: OK