Package: TFEA.ChIP Version: 1.26.0 Command: rm -rf TFEA.ChIP.buildbin-libdir && mkdir TFEA.ChIP.buildbin-libdir && /Users/biocbuild/BBS/utils/build-universal.sh TFEA.ChIP_1.26.0.tar.gz /Library/Frameworks/R.framework/Resources/bin/R TFEA.ChIP.buildbin-libdir StartedAt: 2025-02-05 18:05:49 -0500 (Wed, 05 Feb 2025) EndedAt: 2025-02-05 18:06:39 -0500 (Wed, 05 Feb 2025) EllapsedTime: 50.1 seconds RetCode: 0 Status: OK PackageFile: TFEA.ChIP_1.26.0.tgz PackageFileSize: 5.215 MiB