Package: TFEA.ChIP Version: 1.26.0 Command: /Library/Frameworks/R.framework/Resources/bin/R CMD build --keep-empty-dirs --no-resave-data TFEA.ChIP StartedAt: 2025-02-04 09:41:44 -0500 (Tue, 04 Feb 2025) EndedAt: 2025-02-04 09:43:34 -0500 (Tue, 04 Feb 2025) EllapsedTime: 109.9 seconds RetCode: 0 Status: OK PackageFile: TFEA.ChIP_1.26.0.tar.gz PackageFileSize: 5.26 MiB