Package: TFEA.ChIP Version: 1.26.0 Command: /Library/Frameworks/R.framework/Resources/bin/R CMD INSTALL TFEA.ChIP StartedAt: 2025-02-03 16:24:48 -0500 (Mon, 03 Feb 2025) EndedAt: 2025-02-03 16:25:34 -0500 (Mon, 03 Feb 2025) EllapsedTime: 46.3 seconds RetCode: 0 Status: OK