Package: TFEA.ChIP Version: 1.26.0 Command: rm -rf TFEA.ChIP.buildbin-libdir && mkdir TFEA.ChIP.buildbin-libdir && /Users/biocbuild/BBS/utils/build-universal.sh TFEA.ChIP_1.26.0.tar.gz /Library/Frameworks/R.framework/Resources/bin/R TFEA.ChIP.buildbin-libdir StartedAt: 2025-01-31 13:50:39 -0500 (Fri, 31 Jan 2025) EndedAt: 2025-01-31 13:52:04 -0500 (Fri, 31 Jan 2025) EllapsedTime: 85.1 seconds RetCode: 0 Status: OK PackageFile: TFEA.ChIP_1.26.0.tgz PackageFileSize: 5.215 MiB