Package: TFEA.ChIP Version: 1.26.0 Command: /Library/Frameworks/R.framework/Resources/bin/R CMD build --keep-empty-dirs --no-resave-data TFEA.ChIP StartedAt: 2025-02-03 22:53:04 -0500 (Mon, 03 Feb 2025) EndedAt: 2025-02-03 22:56:06 -0500 (Mon, 03 Feb 2025) EllapsedTime: 182.0 seconds RetCode: 0 Status: OK PackageFile: TFEA.ChIP_1.26.0.tar.gz PackageFileSize: 5.259 MiB