Package: TFEA.ChIP Version: 1.26.0 Command: /home/biocbuild/bbs-3.20-bioc/R/bin/R CMD INSTALL TFEA.ChIP StartedAt: 2025-02-10 15:35:25 -0500 (Mon, 10 Feb 2025) EndedAt: 2025-02-10 15:36:02 -0500 (Mon, 10 Feb 2025) EllapsedTime: 37.0 seconds RetCode: 0 Status: OK