Package: TFEA.ChIP Version: 1.26.0 Command: rm -rf TFEA.ChIP.buildbin-libdir && mkdir TFEA.ChIP.buildbin-libdir && F:\biocbuild\bbs-3.20-bioc\R\bin\R.exe CMD INSTALL --build --library=TFEA.ChIP.buildbin-libdir TFEA.ChIP_1.26.0.tar.gz StartedAt: 2025-02-04 09:40:21 -0500 (Tue, 04 Feb 2025) EndedAt: 2025-02-04 09:41:08 -0500 (Tue, 04 Feb 2025) EllapsedTime: 47.4 seconds RetCode: 0 Status: OK PackageFile: TFEA.ChIP_1.26.0.zip PackageFileSize: 5.21 MiB