Package: TFEA.ChIP Version: 1.26.0 Command: F:\biocbuild\bbs-3.20-bioc\R\bin\R.exe CMD INSTALL TFEA.ChIP StartedAt: 2025-02-03 16:41:27 -0500 (Mon, 03 Feb 2025) EndedAt: 2025-02-03 16:42:22 -0500 (Mon, 03 Feb 2025) EllapsedTime: 54.3 seconds RetCode: 0 Status: OK