Package: TFutils Version: 1.26.0 Command: /Library/Frameworks/R.framework/Resources/bin/R CMD build --keep-empty-dirs --no-resave-data TFutils StartedAt: 2025-02-03 22:53:18 -0500 (Mon, 03 Feb 2025) EndedAt: 2025-02-03 22:56:10 -0500 (Mon, 03 Feb 2025) EllapsedTime: 172.1 seconds RetCode: 0 Status: OK PackageFile: TFutils_1.26.0.tar.gz PackageFileSize: 6.013 MiB