Package: TFutils Version: 1.26.0 Command: /home/biocbuild/R/R/bin/R CMD INSTALL TFutils StartedAt: 2025-02-03 20:57:36 -0000 (Mon, 03 Feb 2025) EndedAt: 2025-02-03 20:58:15 -0000 (Mon, 03 Feb 2025) EllapsedTime: 38.9 seconds RetCode: 0 Status: OK