Package: TOAST Version: 1.20.0 Command: rm -rf TOAST.buildbin-libdir && mkdir TOAST.buildbin-libdir && /Users/biocbuild/BBS/utils/build-universal.sh TOAST_1.20.0.tar.gz /Library/Frameworks/R.framework/Resources/bin/R TOAST.buildbin-libdir StartedAt: 2025-01-31 13:51:57 -0500 (Fri, 31 Jan 2025) EndedAt: 2025-01-31 13:52:57 -0500 (Fri, 31 Jan 2025) EllapsedTime: 60.2 seconds RetCode: 0 Status: OK PackageFile: TOAST_1.20.0.tgz PackageFileSize: 3.763 MiB