Package: TOAST Version: 1.20.0 Command: /Library/Frameworks/R.framework/Resources/bin/R CMD build --keep-empty-dirs --no-resave-data TOAST StartedAt: 2025-01-30 23:27:59 -0500 (Thu, 30 Jan 2025) EndedAt: 2025-01-30 23:33:48 -0500 (Thu, 30 Jan 2025) EllapsedTime: 349.6 seconds RetCode: 0 Status: OK PackageFile: TOAST_1.20.0.tar.gz PackageFileSize: 3.623 MiB