Package: TOAST Version: 1.20.0 Command: /home/biocbuild/bbs-3.20-bioc/R/bin/R CMD INSTALL TOAST StartedAt: 2025-02-03 15:22:25 -0500 (Mon, 03 Feb 2025) EndedAt: 2025-02-03 15:22:49 -0500 (Mon, 03 Feb 2025) EllapsedTime: 24.3 seconds RetCode: 0 Status: OK