Package: TOAST Version: 1.20.0 Command: chmod a+r TOAST -R && F:\biocbuild\bbs-3.20-bioc\R\bin\R.exe CMD build --keep-empty-dirs --no-resave-data TOAST StartedAt: 2025-02-03 22:37:44 -0500 (Mon, 03 Feb 2025) EndedAt: 2025-02-03 22:41:12 -0500 (Mon, 03 Feb 2025) EllapsedTime: 207.9 seconds RetCode: 0 Status: OK PackageFile: TOAST_1.20.0.tar.gz PackageFileSize: 3.219 MiB