Package: TOAST Version: 1.20.0 Command: F:\biocbuild\bbs-3.20-bioc\R\bin\R.exe CMD check --no-multiarch --install=check:TOAST.install-out.txt --library=F:\biocbuild\bbs-3.20-bioc\R\library --no-vignettes --timings TOAST_1.20.0.tar.gz StartedAt: 2025-01-31 07:18:25 -0500 (Fri, 31 Jan 2025) EndedAt: 2025-01-31 07:23:50 -0500 (Fri, 31 Jan 2025) EllapsedTime: 325.8 seconds RetCode: 0 Status: OK CheckDir: TOAST.Rcheck Warnings: 0