Package: TOAST Version: 1.20.0 Command: /home/biocbuild/R/R/bin/R CMD INSTALL TOAST StartedAt: 2025-02-03 20:32:19 -0000 (Mon, 03 Feb 2025) EndedAt: 2025-02-03 20:32:52 -0000 (Mon, 03 Feb 2025) EllapsedTime: 32.6 seconds RetCode: 0 Status: OK