Package: TPP Version: 3.34.0 Command: rm -rf TPP.buildbin-libdir && mkdir TPP.buildbin-libdir && /Users/biocbuild/BBS/utils/build-universal.sh TPP_3.34.0.tar.gz /Library/Frameworks/R.framework/Resources/bin/R TPP.buildbin-libdir StartedAt: 2025-02-05 18:08:45 -0500 (Wed, 05 Feb 2025) EndedAt: 2025-02-05 18:09:04 -0500 (Wed, 05 Feb 2025) EllapsedTime: 19.1 seconds RetCode: 0 Status: OK PackageFile: TPP_3.34.0.tgz PackageFileSize: 8.859 MiB