Package: TPP Version: 3.34.0 Command: /Library/Frameworks/R.framework/Resources/bin/R CMD INSTALL TPP StartedAt: 2025-02-10 18:06:44 -0500 (Mon, 10 Feb 2025) EndedAt: 2025-02-10 18:07:00 -0500 (Mon, 10 Feb 2025) EllapsedTime: 16.2 seconds RetCode: 0 Status: OK