Package: TPP Version: 3.34.0 Command: /Library/Frameworks/R.framework/Resources/bin/R CMD check --install=check:TPP.install-out.txt --library=/Library/Frameworks/R.framework/Resources/library --no-vignettes --timings TPP_3.34.0.tar.gz StartedAt: 2024-11-20 03:31:16 -0500 (Wed, 20 Nov 2024) EndedAt: 2024-11-20 03:41:18 -0500 (Wed, 20 Nov 2024) EllapsedTime: 602.4 seconds RetCode: 0 Status: OK CheckDir: TPP.Rcheck Warnings: 0