Package: TPP Version: 3.34.0 Command: rm -rf TPP.buildbin-libdir && mkdir TPP.buildbin-libdir && /Users/biocbuild/BBS/utils/build-universal.sh TPP_3.34.0.tar.gz /Library/Frameworks/R.framework/Resources/bin/R TPP.buildbin-libdir StartedAt: 2025-01-31 13:52:11 -0500 (Fri, 31 Jan 2025) EndedAt: 2025-01-31 13:52:49 -0500 (Fri, 31 Jan 2025) EllapsedTime: 38.5 seconds RetCode: 0 Status: OK PackageFile: TPP_3.34.0.tgz PackageFileSize: 8.859 MiB