Package: TPP Version: 3.34.0 Command: /Library/Frameworks/R.framework/Resources/bin/R CMD INSTALL TPP StartedAt: 2025-01-30 16:38:22 -0500 (Thu, 30 Jan 2025) EndedAt: 2025-01-30 16:38:56 -0500 (Thu, 30 Jan 2025) EllapsedTime: 33.9 seconds RetCode: 0 Status: OK