Package: TPP Version: 3.34.0 Command: /home/biocbuild/bbs-3.20-bioc/R/bin/R CMD check --install=check:TPP.install-out.txt --library=/home/biocbuild/bbs-3.20-bioc/R/site-library --timings TPP_3.34.0.tar.gz StartedAt: 2025-01-31 03:05:29 -0500 (Fri, 31 Jan 2025) EndedAt: 2025-01-31 03:14:08 -0500 (Fri, 31 Jan 2025) EllapsedTime: 518.5 seconds RetCode: 0 Status: OK CheckDir: TPP.Rcheck Warnings: 0