Package: TPP Version: 3.34.0 Command: F:\biocbuild\bbs-3.20-bioc\R\bin\R.exe CMD check --no-multiarch --install=check:TPP.install-out.txt --library=F:\biocbuild\bbs-3.20-bioc\R\library --no-vignettes --timings TPP_3.34.0.tar.gz StartedAt: 2025-01-31 07:19:52 -0500 (Fri, 31 Jan 2025) EndedAt: 2025-01-31 07:32:21 -0500 (Fri, 31 Jan 2025) EllapsedTime: 749.0 seconds RetCode: 0 Status: OK CheckDir: TPP.Rcheck Warnings: 0