Package: TPP Version: 3.34.0 Command: /home/biocbuild/R/R/bin/R CMD INSTALL TPP StartedAt: 2025-02-03 21:19:13 -0000 (Mon, 03 Feb 2025) EndedAt: 2025-02-03 21:19:31 -0000 (Mon, 03 Feb 2025) EllapsedTime: 17.8 seconds RetCode: 0 Status: OK