Package: TPP2D Version: 1.22.0 Command: /Library/Frameworks/R.framework/Resources/bin/R CMD check --install=check:TPP2D.install-out.txt --library=/Library/Frameworks/R.framework/Resources/library --no-vignettes --timings TPP2D_1.22.0.tar.gz StartedAt: 2025-02-05 13:08:26 -0500 (Wed, 05 Feb 2025) EndedAt: 2025-02-05 13:10:25 -0500 (Wed, 05 Feb 2025) EllapsedTime: 118.6 seconds RetCode: 0 Status: OK CheckDir: TPP2D.Rcheck Warnings: 0