Package: TPP2D Version: 1.22.0 Command: /Library/Frameworks/R.framework/Resources/bin/R CMD build --keep-empty-dirs --no-resave-data TPP2D StartedAt: 2024-11-08 19:27:28 -0500 (Fri, 08 Nov 2024) EndedAt: 2024-11-08 19:27:40 -0500 (Fri, 08 Nov 2024) EllapsedTime: 12.1 seconds RetCode: 0 Status: OK PackageFile: TPP2D_1.22.0.tar.gz PackageFileSize: 2.294 MiB