Package: TPP2D Version: 1.22.0 Command: rm -rf TPP2D.buildbin-libdir && mkdir TPP2D.buildbin-libdir && /Users/biocbuild/BBS/utils/build-universal.sh TPP2D_1.22.0.tar.gz /Library/Frameworks/R.framework/Resources/bin/R TPP2D.buildbin-libdir StartedAt: 2025-01-31 13:52:12 -0500 (Fri, 31 Jan 2025) EndedAt: 2025-01-31 13:52:31 -0500 (Fri, 31 Jan 2025) EllapsedTime: 19.3 seconds RetCode: 0 Status: OK PackageFile: TPP2D_1.22.0.tgz PackageFileSize: 1.884 MiB