Package: TPP2D Version: 1.22.0 Command: /Library/Frameworks/R.framework/Resources/bin/R CMD build --keep-empty-dirs --no-resave-data TPP2D StartedAt: 2025-02-03 22:57:58 -0500 (Mon, 03 Feb 2025) EndedAt: 2025-02-03 22:59:19 -0500 (Mon, 03 Feb 2025) EllapsedTime: 81.6 seconds RetCode: 0 Status: OK PackageFile: TPP2D_1.22.0.tar.gz PackageFileSize: 2.298 MiB