Package: TPP2D Version: 1.22.0 Command: /Library/Frameworks/R.framework/Resources/bin/R CMD INSTALL TPP2D StartedAt: 2025-02-03 16:41:40 -0500 (Mon, 03 Feb 2025) EndedAt: 2025-02-03 16:41:57 -0500 (Mon, 03 Feb 2025) EllapsedTime: 16.8 seconds RetCode: 0 Status: OK