Package: TPP2D Version: 1.22.0 Command: /home/biocbuild/bbs-3.20-bioc/R/bin/R CMD check --install=check:TPP2D.install-out.txt --library=/home/biocbuild/bbs-3.20-bioc/R/site-library --timings TPP2D_1.22.0.tar.gz StartedAt: 2025-02-04 03:16:21 -0500 (Tue, 04 Feb 2025) EndedAt: 2025-02-04 03:18:16 -0500 (Tue, 04 Feb 2025) EllapsedTime: 115.1 seconds RetCode: 0 Status: OK CheckDir: TPP2D.Rcheck Warnings: 0