Package: TPP2D Version: 1.22.0 Command: /home/biocbuild/bbs-3.20-bioc/R/bin/R CMD INSTALL TPP2D StartedAt: 2025-02-10 15:59:13 -0500 (Mon, 10 Feb 2025) EndedAt: 2025-02-10 15:59:20 -0500 (Mon, 10 Feb 2025) EllapsedTime: 7.1 seconds RetCode: 0 Status: OK