Package: TPP2D Version: 1.21.0 Command: rm -rf TPP2D.buildbin-libdir && mkdir TPP2D.buildbin-libdir && F:\biocbuild\bbs-3.20-bioc\R\bin\R.exe CMD INSTALL --build --library=TPP2D.buildbin-libdir TPP2D_1.21.0.tar.gz StartedAt: 2024-06-10 15:24:23 -0400 (Mon, 10 Jun 2024) EndedAt: 2024-06-10 15:25:25 -0400 (Mon, 10 Jun 2024) EllapsedTime: 62.4 seconds RetCode: 0 Status: OK PackageFile: TPP2D_1.21.0.zip PackageFileSize: 1.728 MiB