Package: TPP2D Version: 1.22.0 Command: /home/biocbuild/R/R/bin/R CMD INSTALL TPP2D StartedAt: 2025-02-03 21:19:08 -0000 (Mon, 03 Feb 2025) EndedAt: 2025-02-03 21:19:17 -0000 (Mon, 03 Feb 2025) EllapsedTime: 9.5 seconds RetCode: 0 Status: OK