Package: TRESS Version: 1.12.0 Command: rm -rf TRESS.buildbin-libdir && mkdir TRESS.buildbin-libdir && /Users/biocbuild/BBS/utils/build-universal.sh TRESS_1.12.0.tar.gz /Library/Frameworks/R.framework/Resources/bin/R TRESS.buildbin-libdir StartedAt: 2025-02-05 18:10:55 -0500 (Wed, 05 Feb 2025) EndedAt: 2025-02-05 18:11:39 -0500 (Wed, 05 Feb 2025) EllapsedTime: 44.3 seconds RetCode: 0 Status: OK PackageFile: TRESS_1.12.0.tgz PackageFileSize: 684.4 KiB