Package: TRESS Version: 1.12.0 Command: /Library/Frameworks/R.framework/Resources/bin/R CMD check --install=check:TRESS.install-out.txt --library=/Library/Frameworks/R.framework/Resources/library --no-vignettes --timings TRESS_1.12.0.tar.gz StartedAt: 2025-02-12 12:44:18 -0500 (Wed, 12 Feb 2025) EndedAt: 2025-02-12 12:49:39 -0500 (Wed, 12 Feb 2025) EllapsedTime: 321.5 seconds RetCode: 0 Status: OK CheckDir: TRESS.Rcheck Warnings: 0