Package: TRESS Version: 1.12.0 Command: /Library/Frameworks/R.framework/Resources/bin/R CMD INSTALL TRESS StartedAt: 2025-02-10 16:00:32 -0500 (Mon, 10 Feb 2025) EndedAt: 2025-02-10 16:01:14 -0500 (Mon, 10 Feb 2025) EllapsedTime: 42.4 seconds RetCode: 0 Status: OK