Package: TRESS Version: 1.12.0 Command: /Library/Frameworks/R.framework/Resources/bin/R CMD check --install=check:TRESS.install-out.txt --library=/Library/Frameworks/R.framework/Resources/library --no-vignettes --timings TRESS_1.12.0.tar.gz StartedAt: 2025-02-11 11:48:36 -0500 (Tue, 11 Feb 2025) EndedAt: 2025-02-11 11:58:44 -0500 (Tue, 11 Feb 2025) EllapsedTime: 608.2 seconds RetCode: 0 Status: OK CheckDir: TRESS.Rcheck Warnings: 0