Package: TRESS Version: 1.12.0 Command: /home/biocbuild/bbs-3.20-bioc/R/bin/R CMD INSTALL TRESS StartedAt: 2025-02-10 15:27:39 -0500 (Mon, 10 Feb 2025) EndedAt: 2025-02-10 15:28:14 -0500 (Mon, 10 Feb 2025) EllapsedTime: 35.0 seconds RetCode: 0 Status: OK