Package: TRESS Version: 1.12.0 Command: /home/biocbuild/R/R/bin/R CMD build --keep-empty-dirs --no-resave-data TRESS StartedAt: 2025-02-04 03:39:54 -0000 (Tue, 04 Feb 2025) EndedAt: 2025-02-04 03:39:56 -0000 (Tue, 04 Feb 2025) EllapsedTime: 2.0 seconds RetCode: 0 Status: OK PackageFile: TRESS_1.12.0.tar.gz PackageFileSize: 483.8 KiB